Workbook
Name Index_Sheet_Kutools: #REF!

Sheet ΓΑΔΘ
A1: ΓΕΝΙΚΗ ΑΣΤΥΝΟΜΙΚΗ ΔΙΕΥΘΥΝΣΗ ΘΕΣΣΑΛΟΝΙΚΗΣ
A4: ΣΥΝΟΛΙΚΗ ΔΡΑΣΤΗΡΙΟΤΗΤΑ ΦΕΒΡΟΥΑΡΙΟΥ 2025
A5: ΔΡΑΣΕΙΣ | B5: Α. ΓΕΝΙΚΑ ΣΤΟΙΧΕΙΑ | E5: Β. ΔΡΑΣΤΗΡΙΟΤΗΤΑ
B6: ΑΡΙΘΜΟΣ ΠΡΑΓΜΑΤΟΠΟΙΗΘΕΝΤΩΝ | C6: ΑΡΙΘΜΟΣ ΔΙΑΤΙΘΕΜΕΝΩΝ ΑΣΤΥΝΟΜΙΚΩΝ | D6: ΑΡΙΘΜΟΣ ΔΙΑΤΙΘΕΜΕΝΩΝ ΜΕΣΩΝ | E6: ΑΡΙΘΜΟΣ ΕΛΕΓΧΘΕΝΤΩΝ ΟΧΗΜΑΤΩΝ | F6: ΑΡΙΘΜΟΣ ΕΛΕΓΧΘΕΝΤΩΝ ΑΤΟΜΩΝ | H6: ΑΡΙΘΜΟΣ ΠΡΟΣΑΧΘΕΝΤΩΝ ΑΤΟΜΩΝ | J6: ΑΡΙΘΜΟΣ ΣΥΛΛΗΦΘΕΝΤΩΝ ΑΤΟΜΩΝ | N6: ΑΡΙΘΜΟΣ ΒΕΒΑΙΩΘΕΙΣΩΝ ΠΑΡΑΒΑΣΕΩΝ | O6: ΑΡΙΘΜΟΣ ΕΛΕΓΧΩΝ ΚΑΤΑΣΤ/ΤΩΝ
F7: ΗΜΕΔΑΠΟΙ | G7: ΑΛΛΟΔΑΠΟΙ | H7: ΗΜΕΔΑΠΟΙ | I7: ΑΛΛΟΔΑΠΟΙ | J7: ΗΜΕΔΑΠΟΙ | K7: ΑΛΛΟΔΑΠΟΙ ΓΙΑ ΔΙΟΙΚ. ΑΠΕΛΑΣΗ | L7: ΑΛΛΟΔΑΠΟΙ ΓΙΑ ΛΟΙΠΑ ΑΔΙΚΗΜΑΤΑ | M7: ΣΥΛΛΗΨΕΙΣ ΑΤΟΜΩΝ ΣΤΑ Μ.Μ.Μ. (ΠΟΡΤΟΦΟΛΑΔΕΣ)
A8: ΠΕΖΕΣ ΠΕΡΙΠΟΛΙΕΣ | B8: =SUM([1]ΑΣΦΑΛΕΙΑ!B8+[1]ΑΣΤΥΝΟΜΙΑ!B8+[1]ΤΡΟΧΑΙΑ!B8+[1]ΑΛΛΟΔΑΠΩΝ!B8+'[1]ΑΜΕΣΗ ΔΡΑΣΗ'!B8+[1]ΔΑΕΘ!B8+[1]ΔΑΚΑΘ!B8) -> 528 | C8: =SUM([1]ΑΣΦΑΛΕΙΑ!C8+[1]ΑΣΤΥΝΟΜΙΑ!C8+[1]ΤΡΟΧΑΙΑ!C8+[1]ΑΛΛΟΔΑΠΩΝ!C8+'[1]ΑΜΕΣΗ ΔΡΑΣΗ'!C8+[1]ΔΑΕΘ!C8+[1]ΔΑΚΑΘ!C8) -> 1161 | D8: =SUM([1]ΑΣΦΑΛΕΙΑ!D8+[1]ΑΣΤΥΝΟΜΙΑ!D8+[1]ΤΡΟΧΑΙΑ!D8+[1]ΑΛΛΟΔΑΠΩΝ!D8+'[1]ΑΜΕΣΗ ΔΡΑΣΗ'!D8+[1]ΔΑΕΘ!D8+[1]ΔΑΚΑΘ!D8) -> 6 | E8: =SUM([1]ΑΣΦΑΛΕΙΑ!E8+[1]ΑΣΤΥΝΟΜΙΑ!E8+[1]ΤΡΟΧΑΙΑ!E8+[1]ΑΛΛΟΔΑΠΩΝ!E8+'[1]ΑΜΕΣΗ ΔΡΑΣΗ'!E8+[1]ΔΑΕΘ!E8+[1]ΔΑΚΑΘ!E8) -> 49 | F8: =SUM([1]ΑΣΦΑΛΕΙΑ!F8+[1]ΑΣΤΥΝΟΜΙΑ!F8+[1]ΤΡΟΧΑΙΑ!F8+[1]ΑΛΛΟΔΑΠΩΝ!F8+'[1]ΑΜΕΣΗ ΔΡΑΣΗ'!F8+[1]ΔΑΕΘ!F8+[1]ΔΑΚΑΘ!F8) -> 2661 | G8: =SUM([1]ΑΣΦΑΛΕΙΑ!G8+[1]ΑΣΤΥΝΟΜΙΑ!G8+[1]ΤΡΟΧΑΙΑ!G8+[1]ΑΛΛΟΔΑΠΩΝ!G8+'[1]ΑΜΕΣΗ ΔΡΑΣΗ'!G8+[1]ΔΑΕΘ!G8+[1]ΔΑΚΑΘ!G8) -> 1026 | H8: =SUM([1]ΑΣΦΑΛΕΙΑ!H8+[1]ΑΣΤΥΝΟΜΙΑ!H8+[1]ΤΡΟΧΑΙΑ!H8+[1]ΑΛΛΟΔΑΠΩΝ!H8+'[1]ΑΜΕΣΗ ΔΡΑΣΗ'!H8+[1]ΔΑΕΘ!H8+[1]ΔΑΚΑΘ!H8) -> 14 | I8: =SUM([1]ΑΣΦΑΛΕΙΑ!I8+[1]ΑΣΤΥΝΟΜΙΑ!I8+[1]ΤΡΟΧΑΙΑ!I8+[1]ΑΛΛΟΔΑΠΩΝ!I8+'[1]ΑΜΕΣΗ ΔΡΑΣΗ'!I8+[1]ΔΑΕΘ!I8+[1]ΔΑΚΑΘ!I8) -> 4 | ... O8: =SUM([1]ΑΣΦΑΛΕΙΑ!O8+[1]ΑΣΤΥΝΟΜΙΑ!O8+[1]ΤΡΟΧΑΙΑ!O8+[1]ΑΛΛΟΔΑΠΩΝ!O8+'[1]ΑΜΕΣΗ ΔΡΑΣΗ'!O8+[1]ΔΑΕΘ!O8+[1]ΔΑΚΑΘ!O8) -> 43
A9: ΕΠΟΧΟΥΜΕΝΕΣ ΠΕΡΙΠΟΛΙΕΣ | B9: =SUM([1]ΑΣΦΑΛΕΙΑ!B9+[1]ΑΣΤΥΝΟΜΙΑ!B9+[1]ΤΡΟΧΑΙΑ!B9+[1]ΑΛΛΟΔΑΠΩΝ!B9+'[1]ΑΜΕΣΗ ΔΡΑΣΗ'!B9+[1]ΔΑΕΘ!B9+[1]ΔΑΚΑΘ!B9) -> 6154 | C9: =SUM([1]ΑΣΦΑΛΕΙΑ!C9+[1]ΑΣΤΥΝΟΜΙΑ!C9+[1]ΤΡΟΧΑΙΑ!C9+[1]ΑΛΛΟΔΑΠΩΝ!C9+'[1]ΑΜΕΣΗ ΔΡΑΣΗ'!C9+[1]ΔΑΕΘ!C9+[1]ΔΑΚΑΘ!C9) -> 19100 | D9: =SUM([1]ΑΣΦΑΛΕΙΑ!D9+[1]ΑΣΤΥΝΟΜΙΑ!D9+[1]ΤΡΟΧΑΙΑ!D9+[1]ΑΛΛΟΔΑΠΩΝ!D9+'[1]ΑΜΕΣΗ ΔΡΑΣΗ'!D9+[1]ΔΑΕΘ!D9+[1]ΔΑΚΑΘ!D9) -> 5497 | E9: =SUM([1]ΑΣΦΑΛΕΙΑ!E9+[1]ΑΣΤΥΝΟΜΙΑ!E9+[1]ΤΡΟΧΑΙΑ!E9+[1]ΑΛΛΟΔΑΠΩΝ!E9+'[1]ΑΜΕΣΗ ΔΡΑΣΗ'!E9+[1]ΔΑΕΘ!E9+[1]ΔΑΚΑΘ!E9) -> 59766 | F9: =SUM([1]ΑΣΦΑΛΕΙΑ!F9+[1]ΑΣΤΥΝΟΜΙΑ!F9+[1]ΤΡΟΧΑΙΑ!F9+[1]ΑΛΛΟΔΑΠΩΝ!F9+'[1]ΑΜΕΣΗ ΔΡΑΣΗ'!F9+[1]ΔΑΕΘ!F9+[1]ΔΑΚΑΘ!F9) -> 67044 | G9: =SUM([1]ΑΣΦΑΛΕΙΑ!G9+[1]ΑΣΤΥΝΟΜΙΑ!G9+[1]ΤΡΟΧΑΙΑ!G9+[1]ΑΛΛΟΔΑΠΩΝ!G9+'[1]ΑΜΕΣΗ ΔΡΑΣΗ'!G9+[1]ΔΑΕΘ!G9+[1]ΔΑΚΑΘ!G9) -> 17059 | H9: =SUM([1]ΑΣΦΑΛΕΙΑ!H9+[1]ΑΣΤΥΝΟΜΙΑ!H9+[1]ΤΡΟΧΑΙΑ!H9+[1]ΑΛΛΟΔΑΠΩΝ!H9+'[1]ΑΜΕΣΗ ΔΡΑΣΗ'!H9+[1]ΔΑΕΘ!H9+[1]ΔΑΚΑΘ!H9) -> 840 | I9: =SUM([1]ΑΣΦΑΛΕΙΑ!I9+[1]ΑΣΤΥΝΟΜΙΑ!I9+[1]ΤΡΟΧΑΙΑ!I9+[1]ΑΛΛΟΔΑΠΩΝ!I9+'[1]ΑΜΕΣΗ ΔΡΑΣΗ'!I9+[1]ΔΑΕΘ!I9+[1]ΔΑΚΑΘ!I9) -> 794 | ... O9: =SUM([1]ΑΣΦΑΛΕΙΑ!O9+[1]ΑΣΤΥΝΟΜΙΑ!O9+[1]ΤΡΟΧΑΙΑ!O9+[1]ΑΛΛΟΔΑΠΩΝ!O9+'[1]ΑΜΕΣΗ ΔΡΑΣΗ'!O9+[1]ΔΑΕΘ!O9+[1]ΔΑΚΑΘ!O9) -> 2915
A10: ΕΠΟΧΟΥΜΕΝΕΣ ΠΕΡΙΠΟΛΙΕΣ ΜΕ ΔΙΚΥΚΛΑ | B10: =SUM([1]ΑΣΦΑΛΕΙΑ!B10+[1]ΑΣΤΥΝΟΜΙΑ!B10+[1]ΤΡΟΧΑΙΑ!B10+[1]ΑΛΛΟΔΑΠΩΝ!B10+'[1]ΑΜΕΣΗ ΔΡΑΣΗ'!B10+[1]ΔΑΕΘ!B10+[1]ΔΑΚΑΘ!B10) -> 1473 | C10: =SUM([1]ΑΣΦΑΛΕΙΑ!C10+[1]ΑΣΤΥΝΟΜΙΑ!C10+[1]ΤΡΟΧΑΙΑ!C10+[1]ΑΛΛΟΔΑΠΩΝ!C10+'[1]ΑΜΕΣΗ ΔΡΑΣΗ'!C10+[1]ΔΑΕΘ!C10+[1]ΔΑΚΑΘ!C10) -> 4509 | D10: =SUM([1]ΑΣΦΑΛΕΙΑ!D10+[1]ΑΣΤΥΝΟΜΙΑ!D10+[1]ΤΡΟΧΑΙΑ!D10+[1]ΑΛΛΟΔΑΠΩΝ!D10+'[1]ΑΜΕΣΗ ΔΡΑΣΗ'!D10+[1]ΔΑΕΘ!D10+[1]ΔΑΚΑΘ!D10) -> 2687 | E10: =SUM([1]ΑΣΦΑΛΕΙΑ!E10+[1]ΑΣΤΥΝΟΜΙΑ!E10+[1]ΤΡΟΧΑΙΑ!E10+[1]ΑΛΛΟΔΑΠΩΝ!E10+'[1]ΑΜΕΣΗ ΔΡΑΣΗ'!E10+[1]ΔΑΕΘ!E10+[1]ΔΑΚΑΘ!E10) -> 7632 | F10: =SUM([1]ΑΣΦΑΛΕΙΑ!F10+[1]ΑΣΤΥΝΟΜΙΑ!F10+[1]ΤΡΟΧΑΙΑ!F10+[1]ΑΛΛΟΔΑΠΩΝ!F10+'[1]ΑΜΕΣΗ ΔΡΑΣΗ'!F10+[1]ΔΑΕΘ!F10+[1]ΔΑΚΑΘ!F10) -> 9292 | G10: =SUM([1]ΑΣΦΑΛΕΙΑ!G10+[1]ΑΣΤΥΝΟΜΙΑ!G10+[1]ΤΡΟΧΑΙΑ!G10+[1]ΑΛΛΟΔΑΠΩΝ!G10+'[1]ΑΜΕΣΗ ΔΡΑΣΗ'!G10+[1]ΔΑΕΘ!G10+[1]ΔΑΚΑΘ!G10) -> 1815 | H10: =SUM([1]ΑΣΦΑΛΕΙΑ!H10+[1]ΑΣΤΥΝΟΜΙΑ!H10+[1]ΤΡΟΧΑΙΑ!H10+[1]ΑΛΛΟΔΑΠΩΝ!H10+'[1]ΑΜΕΣΗ ΔΡΑΣΗ'!H10+[1]ΔΑΕΘ!H10+[1]ΔΑΚΑΘ!H10) -> 130 | I10: =SUM([1]ΑΣΦΑΛΕΙΑ!I10+[1]ΑΣΤΥΝΟΜΙΑ!I10+[1]ΤΡΟΧΑΙΑ!I10+[1]ΑΛΛΟΔΑΠΩΝ!I10+'[1]ΑΜΕΣΗ ΔΡΑΣΗ'!I10+[1]ΔΑΕΘ!I10+[1]ΔΑΚΑΘ!I10) -> 69 | ... O10: =SUM([1]ΑΣΦΑΛΕΙΑ!O10+[1]ΑΣΤΥΝΟΜΙΑ!O10+[1]ΤΡΟΧΑΙΑ!O10+[1]ΑΛΛΟΔΑΠΩΝ!O10+'[1]ΑΜΕΣΗ ΔΡΑΣΗ'!O10+[1]ΔΑΕΘ!O10+[1]ΔΑΚΑΘ!O10) -> 0
A11: ΕΞΟΡΜΗΣΕΙΣ | B11: =SUM([1]ΑΣΦΑΛΕΙΑ!B11+[1]ΑΣΤΥΝΟΜΙΑ!B11+[1]ΤΡΟΧΑΙΑ!B11+[1]ΑΛΛΟΔΑΠΩΝ!B11+'[1]ΑΜΕΣΗ ΔΡΑΣΗ'!B11+[1]ΔΑΕΘ!B11+[1]ΔΑΚΑΘ!B11) -> 29 | C11: =SUM([1]ΑΣΦΑΛΕΙΑ!C11+[1]ΑΣΤΥΝΟΜΙΑ!C11+[1]ΤΡΟΧΑΙΑ!C11+[1]ΑΛΛΟΔΑΠΩΝ!C11+'[1]ΑΜΕΣΗ ΔΡΑΣΗ'!C11+[1]ΔΑΕΘ!C11+[1]ΔΑΚΑΘ!C11) -> 220 | D11: =SUM([1]ΑΣΦΑΛΕΙΑ!D11+[1]ΑΣΤΥΝΟΜΙΑ!D11+[1]ΤΡΟΧΑΙΑ!D11+[1]ΑΛΛΟΔΑΠΩΝ!D11+'[1]ΑΜΕΣΗ ΔΡΑΣΗ'!D11+[1]ΔΑΕΘ!D11+[1]ΔΑΚΑΘ!D11) -> 83 | E11: =SUM([1]ΑΣΦΑΛΕΙΑ!E11+[1]ΑΣΤΥΝΟΜΙΑ!E11+[1]ΤΡΟΧΑΙΑ!E11+[1]ΑΛΛΟΔΑΠΩΝ!E11+'[1]ΑΜΕΣΗ ΔΡΑΣΗ'!E11+[1]ΔΑΕΘ!E11+[1]ΔΑΚΑΘ!E11) -> 267 | F11: =SUM([1]ΑΣΦΑΛΕΙΑ!F11+[1]ΑΣΤΥΝΟΜΙΑ!F11+[1]ΤΡΟΧΑΙΑ!F11+[1]ΑΛΛΟΔΑΠΩΝ!F11+'[1]ΑΜΕΣΗ ΔΡΑΣΗ'!F11+[1]ΔΑΕΘ!F11+[1]ΔΑΚΑΘ!F11) -> 1308 | G11: =SUM([1]ΑΣΦΑΛΕΙΑ!G11+[1]ΑΣΤΥΝΟΜΙΑ!G11+[1]ΤΡΟΧΑΙΑ!G11+[1]ΑΛΛΟΔΑΠΩΝ!G11+'[1]ΑΜΕΣΗ ΔΡΑΣΗ'!G11+[1]ΔΑΕΘ!G11+[1]ΔΑΚΑΘ!G11) -> 831 | H11: =SUM([1]ΑΣΦΑΛΕΙΑ!H11+[1]ΑΣΤΥΝΟΜΙΑ!H11+[1]ΤΡΟΧΑΙΑ!H11+[1]ΑΛΛΟΔΑΠΩΝ!H11+'[1]ΑΜΕΣΗ ΔΡΑΣΗ'!H11+[1]ΔΑΕΘ!H11+[1]ΔΑΚΑΘ!H11) -> 16 | I11: =SUM([1]ΑΣΦΑΛΕΙΑ!I11+[1]ΑΣΤΥΝΟΜΙΑ!I11+[1]ΤΡΟΧΑΙΑ!I11+[1]ΑΛΛΟΔΑΠΩΝ!I11+'[1]ΑΜΕΣΗ ΔΡΑΣΗ'!I11+[1]ΔΑΕΘ!I11+[1]ΔΑΚΑΘ!I11) -> 86 | ... O11: =SUM([1]ΑΣΦΑΛΕΙΑ!O11+[1]ΑΣΤΥΝΟΜΙΑ!O11+[1]ΤΡΟΧΑΙΑ!O11+[1]ΑΛΛΟΔΑΠΩΝ!O11+'[1]ΑΜΕΣΗ ΔΡΑΣΗ'!O11+[1]ΔΑΕΘ!O11+[1]ΔΑΚΑΘ!O11) -> 5
A12: ΣΥΝΕΡΓΕΙΑ ΠΑΡΟΧΗΣ ΣΥΝΔΡΟΜΗΣ | B12: =SUM([1]ΑΣΦΑΛΕΙΑ!B12+[1]ΑΣΤΥΝΟΜΙΑ!B12+[1]ΤΡΟΧΑΙΑ!B12+[1]ΑΛΛΟΔΑΠΩΝ!B12+'[1]ΑΜΕΣΗ ΔΡΑΣΗ'!B12+[1]ΔΑΕΘ!B12+[1]ΔΑΚΑΘ!B12) -> 0 | C12: =SUM([1]ΑΣΦΑΛΕΙΑ!C12+[1]ΑΣΤΥΝΟΜΙΑ!C12+[1]ΤΡΟΧΑΙΑ!C12+[1]ΑΛΛΟΔΑΠΩΝ!C12+'[1]ΑΜΕΣΗ ΔΡΑΣΗ'!C12+[1]ΔΑΕΘ!C12+[1]ΔΑΚΑΘ!C12) -> 0 | D12: =SUM([1]ΑΣΦΑΛΕΙΑ!D12+[1]ΑΣΤΥΝΟΜΙΑ!D12+[1]ΤΡΟΧΑΙΑ!D12+[1]ΑΛΛΟΔΑΠΩΝ!D12+'[1]ΑΜΕΣΗ ΔΡΑΣΗ'!D12+[1]ΔΑΕΘ!D12+[1]ΔΑΚΑΘ!D12) -> 0 | E12: =SUM([1]ΑΣΦΑΛΕΙΑ!E12+[1]ΑΣΤΥΝΟΜΙΑ!E12+[1]ΤΡΟΧΑΙΑ!E12+[1]ΑΛΛΟΔΑΠΩΝ!E12+'[1]ΑΜΕΣΗ ΔΡΑΣΗ'!E12+[1]ΔΑΕΘ!E12+[1]ΔΑΚΑΘ!E12) -> 0 | F12: =SUM([1]ΑΣΦΑΛΕΙΑ!F12+[1]ΑΣΤΥΝΟΜΙΑ!F12+[1]ΤΡΟΧΑΙΑ!F12+[1]ΑΛΛΟΔΑΠΩΝ!F12+'[1]ΑΜΕΣΗ ΔΡΑΣΗ'!F12+[1]ΔΑΕΘ!F12+[1]ΔΑΚΑΘ!F12) -> 0 | G12: =SUM([1]ΑΣΦΑΛΕΙΑ!G12+[1]ΑΣΤΥΝΟΜΙΑ!G12+[1]ΤΡΟΧΑΙΑ!G12+[1]ΑΛΛΟΔΑΠΩΝ!G12+'[1]ΑΜΕΣΗ ΔΡΑΣΗ'!G12+[1]ΔΑΕΘ!G12+[1]ΔΑΚΑΘ!G12) -> 0 | H12: =SUM([1]ΑΣΦΑΛΕΙΑ!H12+[1]ΑΣΤΥΝΟΜΙΑ!H12+[1]ΤΡΟΧΑΙΑ!H12+[1]ΑΛΛΟΔΑΠΩΝ!H12+'[1]ΑΜΕΣΗ ΔΡΑΣΗ'!H12+[1]ΔΑΕΘ!H12+[1]ΔΑΚΑΘ!H12) -> 0 | I12: =SUM([1]ΑΣΦΑΛΕΙΑ!I12+[1]ΑΣΤΥΝΟΜΙΑ!I12+[1]ΤΡΟΧΑΙΑ!I12+[1]ΑΛΛΟΔΑΠΩΝ!I12+'[1]ΑΜΕΣΗ ΔΡΑΣΗ'!I12+[1]ΔΑΕΘ!I12+[1]ΔΑΚΑΘ!I12) -> 0 | ... O12: =SUM([1]ΑΣΦΑΛΕΙΑ!O12+[1]ΑΣΤΥΝΟΜΙΑ!O12+[1]ΤΡΟΧΑΙΑ!O12+[1]ΑΛΛΟΔΑΠΩΝ!O12+'[1]ΑΜΕΣΗ ΔΡΑΣΗ'!O12+[1]ΔΑΕΘ!O12+[1]ΔΑΚΑΘ!O12) -> 0
A13: ΣΥΝΕΡΓΕΙΑ ΕΛΕΓΧΩΝ | B13: =SUM([1]ΑΣΦΑΛΕΙΑ!B13+[1]ΑΣΤΥΝΟΜΙΑ!B13+[1]ΤΡΟΧΑΙΑ!B13+[1]ΑΛΛΟΔΑΠΩΝ!B13+'[1]ΑΜΕΣΗ ΔΡΑΣΗ'!B13+[1]ΔΑΕΘ!B13+[1]ΔΑΚΑΘ!B13) -> 71 | C13: =SUM([1]ΑΣΦΑΛΕΙΑ!C13+[1]ΑΣΤΥΝΟΜΙΑ!C13+[1]ΤΡΟΧΑΙΑ!C13+[1]ΑΛΛΟΔΑΠΩΝ!C13+'[1]ΑΜΕΣΗ ΔΡΑΣΗ'!C13+[1]ΔΑΕΘ!C13+[1]ΔΑΚΑΘ!C13) -> 197 | D13: =SUM([1]ΑΣΦΑΛΕΙΑ!D13+[1]ΑΣΤΥΝΟΜΙΑ!D13+[1]ΤΡΟΧΑΙΑ!D13+[1]ΑΛΛΟΔΑΠΩΝ!D13+'[1]ΑΜΕΣΗ ΔΡΑΣΗ'!D13+[1]ΔΑΕΘ!D13+[1]ΔΑΚΑΘ!D13) -> 20 | E13: =SUM([1]ΑΣΦΑΛΕΙΑ!E13+[1]ΑΣΤΥΝΟΜΙΑ!E13+[1]ΤΡΟΧΑΙΑ!E13+[1]ΑΛΛΟΔΑΠΩΝ!E13+'[1]ΑΜΕΣΗ ΔΡΑΣΗ'!E13+[1]ΔΑΕΘ!E13+[1]ΔΑΚΑΘ!E13) -> 302 | F13: =SUM([1]ΑΣΦΑΛΕΙΑ!F13+[1]ΑΣΤΥΝΟΜΙΑ!F13+[1]ΤΡΟΧΑΙΑ!F13+[1]ΑΛΛΟΔΑΠΩΝ!F13+'[1]ΑΜΕΣΗ ΔΡΑΣΗ'!F13+[1]ΔΑΕΘ!F13+[1]ΔΑΚΑΘ!F13) -> 586 | G13: =SUM([1]ΑΣΦΑΛΕΙΑ!G13+[1]ΑΣΤΥΝΟΜΙΑ!G13+[1]ΤΡΟΧΑΙΑ!G13+[1]ΑΛΛΟΔΑΠΩΝ!G13+'[1]ΑΜΕΣΗ ΔΡΑΣΗ'!G13+[1]ΔΑΕΘ!G13+[1]ΔΑΚΑΘ!G13) -> 203 | H13: =SUM([1]ΑΣΦΑΛΕΙΑ!H13+[1]ΑΣΤΥΝΟΜΙΑ!H13+[1]ΤΡΟΧΑΙΑ!H13+[1]ΑΛΛΟΔΑΠΩΝ!H13+'[1]ΑΜΕΣΗ ΔΡΑΣΗ'!H13+[1]ΔΑΕΘ!H13+[1]ΔΑΚΑΘ!H13) -> 33 | I13: =SUM([1]ΑΣΦΑΛΕΙΑ!I13+[1]ΑΣΤΥΝΟΜΙΑ!I13+[1]ΤΡΟΧΑΙΑ!I13+[1]ΑΛΛΟΔΑΠΩΝ!I13+'[1]ΑΜΕΣΗ ΔΡΑΣΗ'!I13+[1]ΔΑΕΘ!I13+[1]ΔΑΚΑΘ!I13) -> 3 | ... O13: =SUM([1]ΑΣΦΑΛΕΙΑ!O13+[1]ΑΣΤΥΝΟΜΙΑ!O13+[1]ΤΡΟΧΑΙΑ!O13+[1]ΑΛΛΟΔΑΠΩΝ!O13+'[1]ΑΜΕΣΗ ΔΡΑΣΗ'!O13+[1]ΔΑΕΘ!O13+[1]ΔΑΚΑΘ!O13) -> 297
A14: ΔΡΑΣΗ ΠΑΡΑΕΜΠΟΡΙΟΥ | B14: =SUM([1]ΑΣΦΑΛΕΙΑ!B14+[1]ΑΣΤΥΝΟΜΙΑ!B14+[1]ΤΡΟΧΑΙΑ!B14+[1]ΑΛΛΟΔΑΠΩΝ!B14+'[1]ΑΜΕΣΗ ΔΡΑΣΗ'!B14+[1]ΔΑΕΘ!B14+[1]ΔΑΚΑΘ!B14) -> 36 | C14: =SUM([1]ΑΣΦΑΛΕΙΑ!C14+[1]ΑΣΤΥΝΟΜΙΑ!C14+[1]ΤΡΟΧΑΙΑ!C14+[1]ΑΛΛΟΔΑΠΩΝ!C14+'[1]ΑΜΕΣΗ ΔΡΑΣΗ'!C14+[1]ΔΑΕΘ!C14+[1]ΔΑΚΑΘ!C14) -> 26 | D14: =SUM([1]ΑΣΦΑΛΕΙΑ!D14+[1]ΑΣΤΥΝΟΜΙΑ!D14+[1]ΤΡΟΧΑΙΑ!D14+[1]ΑΛΛΟΔΑΠΩΝ!D14+'[1]ΑΜΕΣΗ ΔΡΑΣΗ'!D14+[1]ΔΑΕΘ!D14+[1]ΔΑΚΑΘ!D14) -> 9 | E14: =SUM([1]ΑΣΦΑΛΕΙΑ!E14+[1]ΑΣΤΥΝΟΜΙΑ!E14+[1]ΤΡΟΧΑΙΑ!E14+[1]ΑΛΛΟΔΑΠΩΝ!E14+'[1]ΑΜΕΣΗ ΔΡΑΣΗ'!E14+[1]ΔΑΕΘ!E14+[1]ΔΑΚΑΘ!E14) -> 29 | F14: =SUM([1]ΑΣΦΑΛΕΙΑ!F14+[1]ΑΣΤΥΝΟΜΙΑ!F14+[1]ΤΡΟΧΑΙΑ!F14+[1]ΑΛΛΟΔΑΠΩΝ!F14+'[1]ΑΜΕΣΗ ΔΡΑΣΗ'!F14+[1]ΔΑΕΘ!F14+[1]ΔΑΚΑΘ!F14) -> 70 | G14: =SUM([1]ΑΣΦΑΛΕΙΑ!G14+[1]ΑΣΤΥΝΟΜΙΑ!G14+[1]ΤΡΟΧΑΙΑ!G14+[1]ΑΛΛΟΔΑΠΩΝ!G14+'[1]ΑΜΕΣΗ ΔΡΑΣΗ'!G14+[1]ΔΑΕΘ!G14+[1]ΔΑΚΑΘ!G14) -> 16 | H14: =SUM([1]ΑΣΦΑΛΕΙΑ!H14+[1]ΑΣΤΥΝΟΜΙΑ!H14+[1]ΤΡΟΧΑΙΑ!H14+[1]ΑΛΛΟΔΑΠΩΝ!H14+'[1]ΑΜΕΣΗ ΔΡΑΣΗ'!H14+[1]ΔΑΕΘ!H14+[1]ΔΑΚΑΘ!H14) -> 0 | I14: =SUM([1]ΑΣΦΑΛΕΙΑ!I14+[1]ΑΣΤΥΝΟΜΙΑ!I14+[1]ΤΡΟΧΑΙΑ!I14+[1]ΑΛΛΟΔΑΠΩΝ!I14+'[1]ΑΜΕΣΗ ΔΡΑΣΗ'!I14+[1]ΔΑΕΘ!I14+[1]ΔΑΚΑΘ!I14) -> 0 | ... O14: =SUM([1]ΑΣΦΑΛΕΙΑ!O14+[1]ΑΣΤΥΝΟΜΙΑ!O14+[1]ΤΡΟΧΑΙΑ!O14+[1]ΑΛΛΟΔΑΠΩΝ!O14+'[1]ΑΜΕΣΗ ΔΡΑΣΗ'!O14+[1]ΔΑΕΘ!O14+[1]ΔΑΚΑΘ!O14) -> 11
A15: ΛΟΙΠΕΣ ΔΡΑΣΕΙΣ | B15: =SUM([1]ΑΣΦΑΛΕΙΑ!B15+[1]ΑΣΤΥΝΟΜΙΑ!B15+[1]ΤΡΟΧΑΙΑ!B15+[1]ΑΛΛΟΔΑΠΩΝ!B15+'[1]ΑΜΕΣΗ ΔΡΑΣΗ'!B15+[1]ΔΑΕΘ!B15+[1]ΔΑΚΑΘ!B15) -> 15 | C15: =SUM([1]ΑΣΦΑΛΕΙΑ!C15+[1]ΑΣΤΥΝΟΜΙΑ!C15+[1]ΤΡΟΧΑΙΑ!C15+[1]ΑΛΛΟΔΑΠΩΝ!C15+'[1]ΑΜΕΣΗ ΔΡΑΣΗ'!C15+[1]ΔΑΕΘ!C15+[1]ΔΑΚΑΘ!C15) -> 77 | D15: =SUM([1]ΑΣΦΑΛΕΙΑ!D15+[1]ΑΣΤΥΝΟΜΙΑ!D15+[1]ΤΡΟΧΑΙΑ!D15+[1]ΑΛΛΟΔΑΠΩΝ!D15+'[1]ΑΜΕΣΗ ΔΡΑΣΗ'!D15+[1]ΔΑΕΘ!D15+[1]ΔΑΚΑΘ!D15) -> 18 | E15: =SUM([1]ΑΣΦΑΛΕΙΑ!E15+[1]ΑΣΤΥΝΟΜΙΑ!E15+[1]ΤΡΟΧΑΙΑ!E15+[1]ΑΛΛΟΔΑΠΩΝ!E15+'[1]ΑΜΕΣΗ ΔΡΑΣΗ'!E15+[1]ΔΑΕΘ!E15+[1]ΔΑΚΑΘ!E15) -> 33 | F15: =SUM([1]ΑΣΦΑΛΕΙΑ!F15+[1]ΑΣΤΥΝΟΜΙΑ!F15+[1]ΤΡΟΧΑΙΑ!F15+[1]ΑΛΛΟΔΑΠΩΝ!F15+'[1]ΑΜΕΣΗ ΔΡΑΣΗ'!F15+[1]ΔΑΕΘ!F15+[1]ΔΑΚΑΘ!F15) -> 283 | G15: =SUM([1]ΑΣΦΑΛΕΙΑ!G15+[1]ΑΣΤΥΝΟΜΙΑ!G15+[1]ΤΡΟΧΑΙΑ!G15+[1]ΑΛΛΟΔΑΠΩΝ!G15+'[1]ΑΜΕΣΗ ΔΡΑΣΗ'!G15+[1]ΔΑΕΘ!G15+[1]ΔΑΚΑΘ!G15) -> 9 | H15: =SUM([1]ΑΣΦΑΛΕΙΑ!H15+[1]ΑΣΤΥΝΟΜΙΑ!H15+[1]ΤΡΟΧΑΙΑ!H15+[1]ΑΛΛΟΔΑΠΩΝ!H15+'[1]ΑΜΕΣΗ ΔΡΑΣΗ'!H15+[1]ΔΑΕΘ!H15+[1]ΔΑΚΑΘ!H15) -> 110 | I15: =SUM([1]ΑΣΦΑΛΕΙΑ!I15+[1]ΑΣΤΥΝΟΜΙΑ!I15+[1]ΤΡΟΧΑΙΑ!I15+[1]ΑΛΛΟΔΑΠΩΝ!I15+'[1]ΑΜΕΣΗ ΔΡΑΣΗ'!I15+[1]ΔΑΕΘ!I15+[1]ΔΑΚΑΘ!I15) -> 4 | ... O15: =SUM([1]ΑΣΦΑΛΕΙΑ!O15+[1]ΑΣΤΥΝΟΜΙΑ!O15+[1]ΤΡΟΧΑΙΑ!O15+[1]ΑΛΛΟΔΑΠΩΝ!O15+'[1]ΑΜΕΣΗ ΔΡΑΣΗ'!O15+[1]ΔΑΕΘ!O15+[1]ΔΑΚΑΘ!O15) -> 15
A16: ΣΥΝΟΛΟ | B16: =SUM([1]ΑΣΦΑΛΕΙΑ!B16+[1]ΑΣΤΥΝΟΜΙΑ!B16+[1]ΤΡΟΧΑΙΑ!B16+[1]ΑΛΛΟΔΑΠΩΝ!B16+'[1]ΑΜΕΣΗ ΔΡΑΣΗ'!B16+[1]ΔΑΕΘ!B16+[1]ΔΑΚΑΘ!B16) -> 8306 | C16: =SUM([1]ΑΣΦΑΛΕΙΑ!C16+[1]ΑΣΤΥΝΟΜΙΑ!C16+[1]ΤΡΟΧΑΙΑ!C16+[1]ΑΛΛΟΔΑΠΩΝ!C16+'[1]ΑΜΕΣΗ ΔΡΑΣΗ'!C16+[1]ΔΑΕΘ!C16+[1]ΔΑΚΑΘ!C16) -> 25290 | D16: =SUM([1]ΑΣΦΑΛΕΙΑ!D16+[1]ΑΣΤΥΝΟΜΙΑ!D16+[1]ΤΡΟΧΑΙΑ!D16+[1]ΑΛΛΟΔΑΠΩΝ!D16+'[1]ΑΜΕΣΗ ΔΡΑΣΗ'!D16+[1]ΔΑΕΘ!D16+[1]ΔΑΚΑΘ!D16) -> 8320 | E16: =SUM([1]ΑΣΦΑΛΕΙΑ!E16+[1]ΑΣΤΥΝΟΜΙΑ!E16+[1]ΤΡΟΧΑΙΑ!E16+[1]ΑΛΛΟΔΑΠΩΝ!E16+'[1]ΑΜΕΣΗ ΔΡΑΣΗ'!E16+[1]ΔΑΕΘ!E16+[1]ΔΑΚΑΘ!E16) -> 68078 | F16: =SUM([1]ΑΣΦΑΛΕΙΑ!F16+[1]ΑΣΤΥΝΟΜΙΑ!F16+[1]ΤΡΟΧΑΙΑ!F16+[1]ΑΛΛΟΔΑΠΩΝ!F16+'[1]ΑΜΕΣΗ ΔΡΑΣΗ'!F16+[1]ΔΑΕΘ!F16+[1]ΔΑΚΑΘ!F16) -> 81244 | G16: =SUM([1]ΑΣΦΑΛΕΙΑ!G16+[1]ΑΣΤΥΝΟΜΙΑ!G16+[1]ΤΡΟΧΑΙΑ!G16+[1]ΑΛΛΟΔΑΠΩΝ!G16+'[1]ΑΜΕΣΗ ΔΡΑΣΗ'!G16+[1]ΔΑΕΘ!G16+[1]ΔΑΚΑΘ!G16) -> 20959 | H16: =SUM([1]ΑΣΦΑΛΕΙΑ!H16+[1]ΑΣΤΥΝΟΜΙΑ!H16+[1]ΤΡΟΧΑΙΑ!H16+[1]ΑΛΛΟΔΑΠΩΝ!H16+'[1]ΑΜΕΣΗ ΔΡΑΣΗ'!H16+[1]ΔΑΕΘ!H16+[1]ΔΑΚΑΘ!H16) -> 1143 | I16: =SUM([1]ΑΣΦΑΛΕΙΑ!I16+[1]ΑΣΤΥΝΟΜΙΑ!I16+[1]ΤΡΟΧΑΙΑ!I16+[1]ΑΛΛΟΔΑΠΩΝ!I16+'[1]ΑΜΕΣΗ ΔΡΑΣΗ'!I16+[1]ΔΑΕΘ!I16+[1]ΔΑΚΑΘ!I16) -> 960 | ... O16: =SUM([1]ΑΣΦΑΛΕΙΑ!O16+[1]ΑΣΤΥΝΟΜΙΑ!O16+[1]ΤΡΟΧΑΙΑ!O16+[1]ΑΛΛΟΔΑΠΩΝ!O16+'[1]ΑΜΕΣΗ ΔΡΑΣΗ'!O16+[1]ΔΑΕΘ!O16+[1]ΔΑΚΑΘ!O16) -> 3286
F17: =SUM(F16+G16) -> 102203 | H17: =SUM(H16+I16) -> 2103 | J17: =SUM(J16+K16+L16+M16) -> 930
A19: ΑΝΑΛΥΣΗ ΣΥΛΛΗΦΘΕΝΤΩΝ | B19: ΑΡΙΘΜΟΣ | D19: ΑΡΙΘΜΟΣ ΚΑΤΑΓΓΕΛΙΩΝ ΔΙΑΤΑΡΑΞΗΣ | F19: =SUM([1]ΑΣΦΑΛΕΙΑ!F19+[1]ΑΣΤΥΝΟΜΙΑ!F19+[1]ΤΡΟΧΑΙΑ!F19+[1]ΑΛΛΟΔΑΠΩΝ!F19+'[1]ΑΜΕΣΗ ΔΡΑΣΗ'!F19+[1]ΔΑΕΘ!F19+[1]ΔΑΚΑΘ!F19) -> 1048 | H19: ΠΑΡΑΒΑΣΕΙΣ Κ.Ο.Κ. (ΓΕΝΙΚΑ) | J19: =SUM([1]ΑΣΦΑΛΕΙΑ!J19+[1]ΑΣΤΥΝΟΜΙΑ!J19+[1]ΤΡΟΧΑΙΑ!J19+[1]ΑΛΛΟΔΑΠΩΝ!J19+'[1]ΑΜΕΣΗ ΔΡΑΣΗ'!J19+[1]ΔΑΕΘ!J19+[1]ΔΑΚΑΘ!J19) -> 23229 | L19: EΛΕΓΧΟΣ ΕΦΑΡΜΟΓΗΣ ΜΕΤΡΩΝ COVID19
A20: Κλοπές - Διαρρήξεις | B20: =SUM([1]ΑΣΦΑΛΕΙΑ!B20+[1]ΑΣΤΥΝΟΜΙΑ!B20+[1]ΤΡΟΧΑΙΑ!B20+[1]ΑΛΛΟΔΑΠΩΝ!B20+'[1]ΑΜΕΣΗ ΔΡΑΣΗ'!B20+[1]ΔΑΕΘ!B20+[1]ΔΑΚΑΘ!B20) -> 43 | D20: ΑΡΙΘΜΟΣ ΕΛΕΓΧΩΝ ΓΙΑ ΔΙΑΤΑΡΑΞΗ | F20: =SUM([1]ΑΣΦΑΛΕΙΑ!F20+[1]ΑΣΤΥΝΟΜΙΑ!F20+[1]ΤΡΟΧΑΙΑ!F20+[1]ΑΛΛΟΔΑΠΩΝ!F20+'[1]ΑΜΕΣΗ ΔΡΑΣΗ'!F20+[1]ΔΑΕΘ!F20+[1]ΔΑΚΑΘ!F20) -> 1034 | H20: ΠΑΡΑΒΑΣΕΙΣ Κ.Ο.Κ. (ΡΑΜΠΕΣ Α.Μ.Ε.Α) | J20: =SUM([1]ΑΣΦΑΛΕΙΑ!J20+[1]ΑΣΤΥΝΟΜΙΑ!J20+[1]ΤΡΟΧΑΙΑ!J20+[1]ΑΛΛΟΔΑΠΩΝ!J20+'[1]ΑΜΕΣΗ ΔΡΑΣΗ'!J20+[1]ΔΑΕΘ!J20+[1]ΔΑΚΑΘ!J20) -> 320 | L20: ΣΗΜΕΙΑ | M20: ΕΛΕΓΧΟΙ | N20: ΠΑΡΑΒΑΣΕΙΣ
A21: Ληστεία | B21: =SUM([1]ΑΣΦΑΛΕΙΑ!B21+[1]ΑΣΤΥΝΟΜΙΑ!B21+[1]ΤΡΟΧΑΙΑ!B21+[1]ΑΛΛΟΔΑΠΩΝ!B21+'[1]ΑΜΕΣΗ ΔΡΑΣΗ'!B21+[1]ΔΑΕΘ!B21+[1]ΔΑΚΑΘ!B21) -> 5 | D21: ΑΡΙΘΜΟΣ ΒΕΒΑΙΩΘΕΙΣΩΝ ΠΑΡΑΒΑΣΕΩΝ ΓΙΑ ΔΙΑΤΑΡΑΞΗ (ΣΤΙΣ ΛΟΙΠΕΣ ΠΕΡΙΠΤΩΣΕΙΣ ΟΥΔΕΝ ΔΙΑΠΙΣΤΩΘΗ) | F21: =SUM([1]ΑΣΦΑΛΕΙΑ!F21+[1]ΑΣΤΥΝΟΜΙΑ!F21+[1]ΤΡΟΧΑΙΑ!F21+[1]ΑΛΛΟΔΑΠΩΝ!F21+'[1]ΑΜΕΣΗ ΔΡΑΣΗ'!F21+[1]ΔΑΕΘ!F21+[1]ΔΑΚΑΘ!F21) -> 28 | L21: ΚΑΤΑΣΤΗΜΑΤΑ | M21: =SUM([1]ΑΣΦΑΛΕΙΑ!M21+[1]ΑΣΤΥΝΟΜΙΑ!M21+[1]ΤΡΟΧΑΙΑ!M21+[1]ΑΛΛΟΔΑΠΩΝ!M21+'[1]ΑΜΕΣΗ ΔΡΑΣΗ'!M21+[1]ΔΑΕΘ!M21) -> 0 | N21: =SUM([1]ΑΣΦΑΛΕΙΑ!N21+[1]ΑΣΤΥΝΟΜΙΑ!N21+[1]ΤΡΟΧΑΙΑ!N21+[1]ΑΛΛΟΔΑΠΩΝ!N21+'[1]ΑΜΕΣΗ ΔΡΑΣΗ'!N21+[1]ΔΑΕΘ!N21) -> 0
A22: Περί Αλλοδαπών | B22: =SUM([1]ΑΣΦΑΛΕΙΑ!B22+[1]ΑΣΤΥΝΟΜΙΑ!B22+[1]ΤΡΟΧΑΙΑ!B22+[1]ΑΛΛΟΔΑΠΩΝ!B22+'[1]ΑΜΕΣΗ ΔΡΑΣΗ'!B22+[1]ΔΑΕΘ!B22+[1]ΔΑΚΑΘ!B22) -> 73 | D22: ΑΡΙΘΜΟΣ ΣΦΡΑΓΙΣΕΩΝ ΚΑΤΑΣΤΗΜΑΤΩΝ | F22: =SUM([1]ΑΣΦΑΛΕΙΑ!F22+[1]ΑΣΤΥΝΟΜΙΑ!F22+[1]ΤΡΟΧΑΙΑ!F22+[1]ΑΛΛΟΔΑΠΩΝ!F22+'[1]ΑΜΕΣΗ ΔΡΑΣΗ'!F22+[1]ΔΑΕΘ!F22+[1]ΔΑΚΑΘ!F22) -> 0 | L22: ΜΜΜ | M22: =SUM([1]ΑΣΦΑΛΕΙΑ!M22+[1]ΑΣΤΥΝΟΜΙΑ!M22+[1]ΤΡΟΧΑΙΑ!M22+[1]ΑΛΛΟΔΑΠΩΝ!M22+'[1]ΑΜΕΣΗ ΔΡΑΣΗ'!M22+[1]ΔΑΕΘ!M22) -> 0 | N22: =SUM([1]ΑΣΦΑΛΕΙΑ!N22+[1]ΑΣΤΥΝΟΜΙΑ!N22+[1]ΤΡΟΧΑΙΑ!N22+[1]ΑΛΛΟΔΑΠΩΝ!N22+'[1]ΑΜΕΣΗ ΔΡΑΣΗ'!N22+[1]ΔΑΕΘ!N22) -> 0
A23: Περί Όπλων | B23: =SUM([1]ΑΣΦΑΛΕΙΑ!B23+[1]ΑΣΤΥΝΟΜΙΑ!B23+[1]ΤΡΟΧΑΙΑ!B23+[1]ΑΛΛΟΔΑΠΩΝ!B23+'[1]ΑΜΕΣΗ ΔΡΑΣΗ'!B23+[1]ΔΑΕΘ!B23+[1]ΔΑΚΑΘ!B23) -> 51 | L23: ΛΟΙΠΑ ΣΗΜΕΙΑ | M23: =SUM([1]ΑΣΦΑΛΕΙΑ!M23+[1]ΑΣΤΥΝΟΜΙΑ!M23+[1]ΤΡΟΧΑΙΑ!M23+[1]ΑΛΛΟΔΑΠΩΝ!M23+'[1]ΑΜΕΣΗ ΔΡΑΣΗ'!M23+[1]ΔΑΕΘ!M23) -> 0 | N23: =SUM([1]ΑΣΦΑΛΕΙΑ!N23+[1]ΑΣΤΥΝΟΜΙΑ!N23+[1]ΤΡΟΧΑΙΑ!N23+[1]ΑΛΛΟΔΑΠΩΝ!N23+'[1]ΑΜΕΣΗ ΔΡΑΣΗ'!N23+[1]ΔΑΕΘ!N23) -> 0
A24: Περί Ναρκωτικών | B24: =SUM([1]ΑΣΦΑΛΕΙΑ!B24+[1]ΑΣΤΥΝΟΜΙΑ!B24+[1]ΤΡΟΧΑΙΑ!B24+[1]ΑΛΛΟΔΑΠΩΝ!B24+'[1]ΑΜΕΣΗ ΔΡΑΣΗ'!B24+[1]ΔΑΕΘ!B24+[1]ΔΑΚΑΘ!B24) -> 213 | L24: ΣΥΝΟΛΟ | M24: =SUM(M21:M23) -> 0 | N24: =SUM([1]ΑΣΦΑΛΕΙΑ!N24+[1]ΑΣΤΥΝΟΜΙΑ!N24+[1]ΤΡΟΧΑΙΑ!N24+[1]ΑΛΛΟΔΑΠΩΝ!N24+'[1]ΑΜΕΣΗ ΔΡΑΣΗ'!N24+[1]ΔΑΕΘ!N24) -> 0
A25: Περί Εθνικού Τελ. Κώδικα | B25: =SUM([1]ΑΣΦΑΛΕΙΑ!B25+[1]ΑΣΤΥΝΟΜΙΑ!B25+[1]ΤΡΟΧΑΙΑ!B25+[1]ΑΛΛΟΔΑΠΩΝ!B25+'[1]ΑΜΕΣΗ ΔΡΑΣΗ'!B25+[1]ΔΑΕΘ!B25+[1]ΔΑΚΑΘ!B25) -> 5 | L25: ΑΕΡΟΛΙΜΕΝΕΣ | M25: =SUM([1]ΔΑΚΑΘ!M24) -> 0 | N25: =SUM([1]ΔΑΚΑΘ!N24) -> 0
A26: Διωκόμενοι - Καταδ. Αποφ. | B26: =SUM([1]ΑΣΦΑΛΕΙΑ!B26+[1]ΑΣΤΥΝΟΜΙΑ!B26+[1]ΤΡΟΧΑΙΑ!B26+[1]ΑΛΛΟΔΑΠΩΝ!B26+'[1]ΑΜΕΣΗ ΔΡΑΣΗ'!B26+[1]ΔΑΕΘ!B26+[1]ΔΑΚΑΘ!B26) -> 63
A27: Λοιπές παραβάσεις | B27: =SUM([1]ΑΣΦΑΛΕΙΑ!B27+[1]ΑΣΤΥΝΟΜΙΑ!B27+[1]ΤΡΟΧΑΙΑ!B27+[1]ΑΛΛΟΔΑΠΩΝ!B27+'[1]ΑΜΕΣΗ ΔΡΑΣΗ'!B27+[1]ΔΑΕΘ!B27+[1]ΔΑΚΑΘ!B27) -> 477
A28: ΣΥΝΟΛΟ | B28: =SUM([1]ΑΣΦΑΛΕΙΑ!B28+[1]ΑΣΤΥΝΟΜΙΑ!B28+[1]ΤΡΟΧΑΙΑ!B28+[1]ΑΛΛΟΔΑΠΩΝ!B28+'[1]ΑΜΕΣΗ ΔΡΑΣΗ'!B28+[1]ΔΑΕΘ!B28+[1]ΔΑΚΑΘ!B28) -> 930
A30: ΣΗΜΕΙΩΣΗ: | B30: Η ΔΙΑΦΟΡΑ ΣΤΟΝ ΑΡΙΘΜΟ ΚΑΤΑΓΓΕΛΙΩΝ ΚΑΙ ΕΛΕΓΧΩΝ ΓΙΑ ΔΙΑΤΑΡΑΞΗ ΣΥΝΙΣΤΑΤΑΙ ΣΤΟ OΤΙ ΓΙΑ ΤΗΝ ΙΔΙΑ ΔΙΑΤΑΡΑΞΗ EΠΙΚΟΙΝΩΝΟΥΝ ΠΟΛΛΟΙ ΚΑΤΑΓΓΕΛΛΟΝΤΕΣ
